BEGIN:VCALENDAR
VERSION:2.0
PRODID:-//eventon.com NONSGML v1.0//EN
BEGIN:VEVENT
UID:69e731cf5b860
DTSTAMP:20260421T091407
DTSTART:20260327T173000Z
DTEND:20260327T225900Z
TZID:Europe/Madrid
LOCATION:Track Panorama 
SUMMARY:Sport Prototypes: 2a Carrera
DESCRIPTION: Sport Prototypes: 2a Carrera\nhttps://icar-indoor.com/events/sport-prototypes-2a-carrera-2026/
URL:https://icar-indoor.com/events/sport-prototypes-2a-carrera-2026/
END:VEVENT
END:VCALENDAR