BEGIN:VCALENDAR
VERSION:2.0
PRODID:-//eventon.com NONSGML v1.0//EN
BEGIN:VEVENT
UID:69e73853ebd22
DTSTAMP:20260421T094155
DTSTART:20260306T173000Z
DTEND:20260306T225900Z
TZID:Europe/Madrid
LOCATION:Track Panorama 
SUMMARY:GT Pro Series: 1a Carrera
DESCRIPTION: GT Pro Series: 1a Carrera\nhttps://icar-indoor.com/events/gt-pro-series-1a-carrera-2026/
URL:https://icar-indoor.com/events/gt-pro-series-1a-carrera-2026/
END:VEVENT
END:VCALENDAR